BEGIN:VCALENDAR
PRODID:-//eluceo/ical//2.0/EN
VERSION:2.0
CALSCALE:GREGORIAN
BEGIN:VEVENT
UID:hey.bayern.331368.6556145
DTSTAMP:20260423T001431Z
SUMMARY:Abendmesse mit Musik
DTSTART;TZID=Europe/Berlin:20260426T200000
DTEND;TZID=Europe/Berlin:20260426T235900
LOCATION:Landstraße 31\, 4020 Linz\, Österreich
GEO:48.302266;14.289812
X-APPLE-STRUCTURED-LOCATION;VALUE=URI;X-ADDRESS=Landstraße 31\, 4020 Linz\
 , Österreich;X-APPLE-RADIUS=49;X-TITLE=:geo:48.302266,14.289812
URL;VALUE=URI:https://hey-schweiz.com/events/331368
END:VEVENT
END:VCALENDAR
