BEGIN:VCALENDAR
PRODID:-//eluceo/ical//2.0/EN
VERSION:2.0
CALSCALE:GREGORIAN
BEGIN:VEVENT
UID:hey.bayern.331602.6553529
DTSTAMP:20260421T043853Z
SUMMARY:Almkochkurse in der Hoisn-Hütte auf der Rettenbachalm
DTSTART;TZID=Europe/Berlin:20260604T150000
DTEND;TZID=Europe/Berlin:20260604T180000
LOCATION:4820 Bad Ischl\, Österreich
GEO:47.711530;13.623933
X-APPLE-STRUCTURED-LOCATION;VALUE=URI;X-ADDRESS=4820 Bad Ischl\, Österreic
 h;X-APPLE-RADIUS=49;X-TITLE=:geo:47.711530,13.623933
URL;VALUE=URI:https://hey-schweiz.com/events/331602
END:VEVENT
END:VCALENDAR
