BEGIN:VCALENDAR
PRODID:-//eluceo/ical//2.0/EN
VERSION:2.0
CALSCALE:GREGORIAN
BEGIN:VEVENT
UID:hey.bayern.331872.6556153
DTSTAMP:20260423T120555Z
SUMMARY:Aufgetischt der Seehamer Bäuerinnen
DTSTART;TZID=Europe/Berlin:20270912T100000
DTEND;TZID=Europe/Berlin:20270912T180000
LOCATION:Pfarrgrabenstraße 1\, 5164 Seeham\, Österreich
GEO:47.968319;13.078022
X-APPLE-STRUCTURED-LOCATION;VALUE=URI;X-ADDRESS=Pfarrgrabenstraße 1\, 5164
  Seeham\, Österreich;X-APPLE-RADIUS=49;X-TITLE=:geo:47.968319,13.078022
URL;VALUE=URI:https://hey-schweiz.com/events/331872
END:VEVENT
END:VCALENDAR
