BEGIN:VCALENDAR
PRODID:-//eluceo/ical//2.0/EN
VERSION:2.0
CALSCALE:GREGORIAN
BEGIN:VEVENT
UID:hey.bayern.332159.4920726
DTSTAMP:20260423T105232Z
SUMMARY:Bauernmarkt in Bleiburg
DTSTART;TZID=Europe/Berlin:20261118T080000
DTEND;TZID=Europe/Berlin:20261118T120000
URL;VALUE=URI:https://hey-schweiz.com/events/332159
END:VEVENT
END:VCALENDAR
