BEGIN:VCALENDAR
PRODID:-//eluceo/ical//2.0/EN
VERSION:2.0
CALSCALE:GREGORIAN
BEGIN:VEVENT
UID:hey.bayern.333257.6548655
DTSTAMP:20260421T125557Z
SUMMARY:Dorffest Uttendorf
DTSTART;TZID=Europe/Berlin:20260627T150000
DTEND;TZID=Europe/Berlin:20260627T235959
LOCATION:Dorffest Verein
GEO:47.516231;14.550072
X-APPLE-STRUCTURED-LOCATION;VALUE=URI;X-ADDRESS=Dorffest Verein;X-APPLE-RAD
 IUS=49;X-TITLE=:geo:47.516231,14.550072
URL;VALUE=URI:https://hey-schweiz.com/events/333257
END:VEVENT
END:VCALENDAR
