BEGIN:VCALENDAR
PRODID:-//eluceo/ical//2.0/EN
VERSION:2.0
CALSCALE:GREGORIAN
BEGIN:VEVENT
UID:hey.bayern.334470.6550464
DTSTAMP:20260420T214127Z
SUMMARY:Fuscher Dämmerschoppen
DTSTART;TZID=Europe/Berlin:20260703T190000
DTEND;TZID=Europe/Berlin:20260703T235959
LOCATION:Zeller Fusch 85\, 5672 Fusch Glocknerstraße\, Österreich
GEO:47.226913;12.826346
X-APPLE-STRUCTURED-LOCATION;VALUE=URI;X-ADDRESS=Zeller Fusch 85\, 5672 Fusc
 h Glocknerstraße\, Österreich;X-APPLE-RADIUS=49;X-TITLE=:geo:47.226913,1
 2.826346
URL;VALUE=URI:https://hey-schweiz.com/events/334470
END:VEVENT
END:VCALENDAR
