BEGIN:VCALENDAR
PRODID:-//eluceo/ical//2.0/EN
VERSION:2.0
CALSCALE:GREGORIAN
BEGIN:VEVENT
UID:hey.bayern.335581.6556578
DTSTAMP:20260423T103454Z
SUMMARY:Immer wieder freitags Seeham SEhEN... Holzstöckerlbauen für Jeder
 mann
DTSTART;TZID=Europe/Berlin:20270528T090000
DTEND;TZID=Europe/Berlin:20270528T120000
LOCATION:Talacker 3\, 5164 Seeham\, Österreich
GEO:47.958861;13.060315
X-APPLE-STRUCTURED-LOCATION;VALUE=URI;X-ADDRESS=Talacker 3\, 5164 Seeham\, 
 Österreich;X-APPLE-RADIUS=49;X-TITLE=:geo:47.958861,13.060315
URL;VALUE=URI:https://hey-schweiz.com/events/335581
END:VEVENT
END:VCALENDAR
