BEGIN:VCALENDAR
PRODID:-//eluceo/ical//2.0/EN
VERSION:2.0
CALSCALE:GREGORIAN
BEGIN:VEVENT
UID:hey.bayern.336915.6553702
DTSTAMP:20260421T014921Z
SUMMARY:Laakirchner Martinimarkt
DTSTART;TZID=Europe/Berlin:20261115T090000
DTEND;TZID=Europe/Berlin:20261115T180000
LOCATION:Museumsplatz 1\, 4662 Laakirchen\, Österreich
GEO:47.991474;13.796976
X-APPLE-STRUCTURED-LOCATION;VALUE=URI;X-ADDRESS=Museumsplatz 1\, 4662 Laaki
 rchen\, Österreich;X-APPLE-RADIUS=49;X-TITLE=:geo:47.991474,13.796976
URL;VALUE=URI:https://hey-schweiz.com/events/336915
END:VEVENT
END:VCALENDAR
