BEGIN:VCALENDAR
PRODID:-//eluceo/ical//2.0/EN
VERSION:2.0
CALSCALE:GREGORIAN
BEGIN:VEVENT
UID:hey.bayern.336917.6553703
DTSTAMP:20260421T043153Z
SUMMARY:Laakirchner Stadtfest
DTSTART;TZID=Europe/Berlin:20260620T150000
DTEND;TZID=Europe/Berlin:20260620T235900
LOCATION:Rathausplatz 1\, 4663 Laakirchen\, Österreich
GEO:47.991558;13.796735
X-APPLE-STRUCTURED-LOCATION;VALUE=URI;X-ADDRESS=Rathausplatz 1\, 4663 Laaki
 rchen\, Österreich;X-APPLE-RADIUS=49;X-TITLE=:geo:47.991558,13.796735
URL;VALUE=URI:https://hey-schweiz.com/events/336917
END:VEVENT
END:VCALENDAR
