BEGIN:VCALENDAR
PRODID:-//eluceo/ical//2.0/EN
VERSION:2.0
CALSCALE:GREGORIAN
BEGIN:VEVENT
UID:hey.bayern.337420.6550777
DTSTAMP:20260421T032900Z
SUMMARY:Maibaumfest der Landjugend Filzmoos
DTSTART;TZID=Europe/Berlin:20260501T130000
DTEND;TZID=Europe/Berlin:20260501T235959
LOCATION:Hofanger 25\, 5532 Filzmoos\, Österreich
URL;VALUE=URI:https://hey-schweiz.com/events/337420
END:VEVENT
END:VCALENDAR
