BEGIN:VCALENDAR
PRODID:-//eluceo/ical//2.0/EN
VERSION:2.0
CALSCALE:GREGORIAN
BEGIN:VEVENT
UID:hey.bayern.337766.6436024
DTSTAMP:20260422T165617Z
SUMMARY:Murecker Stadtfest
DTSTART;TZID=Europe/Berlin:20260919T100000
DTEND;TZID=Europe/Berlin:20260919T235959
LOCATION:Lorberplatz\, 8480 Mureck\, Österreich
GEO:46.707324;15.774361
X-APPLE-STRUCTURED-LOCATION;VALUE=URI;X-ADDRESS=Lorberplatz\, 8480 Mureck\,
  Österreich;X-APPLE-RADIUS=49;X-TITLE=:geo:46.707324,15.774361
URL;VALUE=URI:https://hey-schweiz.com/events/337766
END:VEVENT
END:VCALENDAR
