BEGIN:VCALENDAR
PRODID:-//eluceo/ical//2.0/EN
VERSION:2.0
CALSCALE:GREGORIAN
BEGIN:VEVENT
UID:hey.bayern.340344.6556987
DTSTAMP:20260423T133241Z
SUMMARY:Sternwanderung zur Kaiserbuche auf den Haunsberg
DTSTART;TZID=Europe/Berlin:20271026T100000
DTEND;TZID=Europe/Berlin:20271026T235959
LOCATION:Pfarrgrabenstraße 1\, 5164 Seeham\, Österreich
URL;VALUE=URI:https://hey-schweiz.com/events/340344
END:VEVENT
END:VCALENDAR
