BEGIN:VCALENDAR
PRODID:-//eluceo/ical//2.0/EN
VERSION:2.0
CALSCALE:GREGORIAN
BEGIN:VEVENT
UID:hey.bayern.341879.6549627
DTSTAMP:20260422T224737Z
SUMMARY:abschluss.konzert der Workshop-Teilnehmer:innen
DTSTART;TZID=Europe/Berlin:20260718T194500
DTEND;TZID=Europe/Berlin:20260718T224500
LOCATION:Hauptplatz 10\, 8490 Bad Radkersburg\, Österreich
GEO:46.687291;15.987241
X-APPLE-STRUCTURED-LOCATION;VALUE=URI;X-ADDRESS=Hauptplatz 10\, 8490 Bad Ra
 dkersburg\, Österreich;X-APPLE-RADIUS=49;X-TITLE=:geo:46.687291,15.987241
URL;VALUE=URI:https://hey-schweiz.com/events/341879
END:VEVENT
END:VCALENDAR
