BEGIN:VCALENDAR
PRODID:-//eluceo/ical//2.0/EN
VERSION:2.0
CALSCALE:GREGORIAN
BEGIN:VEVENT
UID:hey.bayern.341883.6549630
DTSTAMP:20260422T224734Z
SUMMARY:big.band.night - Jazzorchester Steiermark
DTSTART;TZID=Europe/Berlin:20260715T194500
DTEND;TZID=Europe/Berlin:20260715T224500
LOCATION:Hauptplatz 10\, 8490 Bad Radkersburg\, Österreich
GEO:46.687307;15.987232
X-APPLE-STRUCTURED-LOCATION;VALUE=URI;X-ADDRESS=Hauptplatz 10\, 8490 Bad Ra
 dkersburg\, Österreich;X-APPLE-RADIUS=49;X-TITLE=:geo:46.687307,15.987232
URL;VALUE=URI:https://hey-schweiz.com/events/341883
END:VEVENT
END:VCALENDAR
