BEGIN:VCALENDAR
PRODID:-//eluceo/ical//2.0/EN
VERSION:2.0
CALSCALE:GREGORIAN
BEGIN:VEVENT
UID:hey.bayern.350680.6553670
DTSTAMP:20260421T020801Z
SUMMARY:Bittgang nach St. Konrad
DTSTART;TZID=Europe/Berlin:20260512T180000
DTEND;TZID=Europe/Berlin:20260512T235900
LOCATION:Moosgasse 2\, 5342 Abersee/St. Gilgen\, Österreich
GEO:47.732183;13.428401
X-APPLE-STRUCTURED-LOCATION;VALUE=URI;X-ADDRESS=Moosgasse 2\, 5342 Abersee/
 St. Gilgen\, Österreich;X-APPLE-RADIUS=49;X-TITLE=:geo:47.732183,13.42840
 1
URL;VALUE=URI:https://hey-schweiz.com/events/350680
END:VEVENT
END:VCALENDAR
