BEGIN:VCALENDAR
PRODID:-//eluceo/ical//2.0/EN
VERSION:2.0
CALSCALE:GREGORIAN
BEGIN:VEVENT
UID:hey.bayern.355573.6556213
DTSTAMP:20260423T062034Z
SUMMARY:Domführungen in Maria Saal
DTSTART;TZID=Europe/Berlin:20261009T140000
DTEND;TZID=Europe/Berlin:20261010T140000
LOCATION:Domplatz 94\, 9063 Maria Saal\, Österreich
URL;VALUE=URI:https://hey-schweiz.com/events/355573
END:VEVENT
END:VCALENDAR
