BEGIN:VCALENDAR
PRODID:-//eluceo/ical//2.0/EN
VERSION:2.0
CALSCALE:GREGORIAN
BEGIN:VEVENT
UID:hey.bayern.358276.6556301
DTSTAMP:20260423T044849Z
SUMMARY:Florianifeier u. Gefallenengedenken
DTSTART;TZID=Europe/Berlin:20260503T083000
DTEND;TZID=Europe/Berlin:20260504T083000
LOCATION:9863 Rennweg\, Österreich
URL;VALUE=URI:https://hey-schweiz.com/events/358276
END:VEVENT
END:VCALENDAR
