BEGIN:VCALENDAR
PRODID:-//eluceo/ical//2.0/EN
VERSION:2.0
CALSCALE:GREGORIAN
BEGIN:VEVENT
UID:hey.bayern.361658.6556611
DTSTAMP:20260423T044847Z
SUMMARY:Familiengottesdienst am Muttertag
DTSTART;TZID=Europe/Berlin:20260510T073000
DTEND;TZID=Europe/Berlin:20260511T073000
LOCATION:St. Peter 16\, 9863 Rennweg\, Österreich
GEO:47.027686;13.595514
X-APPLE-STRUCTURED-LOCATION;VALUE=URI;X-ADDRESS=St. Peter 16\, 9863 Rennweg
 \, Österreich;X-APPLE-RADIUS=49;X-TITLE=:geo:47.027686,13.595514
URL;VALUE=URI:https://hey-schweiz.com/events/361658
END:VEVENT
END:VCALENDAR
