BEGIN:VCALENDAR
PRODID:-//eluceo/ical//2.0/EN
VERSION:2.0
CALSCALE:GREGORIAN
BEGIN:VEVENT
UID:hey.bayern.368128.6556036
DTSTAMP:20260422T005335Z
SUMMARY:Zirbenfest am Graukogel
DTSTART;TZID=Europe/Berlin:20260705T093000
DTEND;TZID=Europe/Berlin:20260705T163000
LOCATION:Graukogel 10 (Bergstation)\, 5640 Bad Gastein\, Österreich
GEO:47.116018;13.140019
X-APPLE-STRUCTURED-LOCATION;VALUE=URI;X-ADDRESS=Graukogel 10 (Bergstation)\
 , 5640 Bad Gastein\, Österreich;X-APPLE-RADIUS=49;X-TITLE=:geo:47.116018,
 13.140019
URL;VALUE=URI:https://hey-schweiz.com/events/368128
END:VEVENT
END:VCALENDAR
