BEGIN:VCALENDAR
PRODID:-//eluceo/ical//2.0/EN
VERSION:2.0
CALSCALE:GREGORIAN
BEGIN:VEVENT
UID:hey.bayern.369850.6121358
DTSTAMP:20260422T125343Z
SUMMARY:Sonderausstellung "Schicksalswende - Das Interniertenlager Camp 373
DTSTART;TZID=Europe/Berlin:20251105T100000
DTEND;TZID=Europe/Berlin:20251105T160000
LOCATION:St. Michaeler Straße 2\, 9400 Wolfsberg\, Österreich
GEO:46.836208;14.840947
X-APPLE-STRUCTURED-LOCATION;VALUE=URI;X-ADDRESS=St. Michaeler Straße 2\, 9
 400 Wolfsberg\, Österreich;X-APPLE-RADIUS=49;X-TITLE=:geo:46.836208,14.84
 0947
URL;VALUE=URI:https://hey-schweiz.com/events/369850
END:VEVENT
END:VCALENDAR
