BEGIN:VCALENDAR
PRODID:-//eluceo/ical//2.0/EN
VERSION:2.0
CALSCALE:GREGORIAN
BEGIN:VEVENT
UID:hey.bayern.371058.2043562
DTSTAMP:20260421T150533Z
SUMMARY:Alpaka Trekking
DTSTART;TZID=Europe/Berlin:20261116T100000
DTEND;TZID=Europe/Berlin:20261116T235959
LOCATION:Rain 7\, 5771 Leogang\, Österreich
GEO:47.438608;12.734089
X-APPLE-STRUCTURED-LOCATION;VALUE=URI;X-ADDRESS=Rain 7\, 5771 Leogang\, Ös
 terreich;X-APPLE-RADIUS=49;X-TITLE=:geo:47.438608,12.734089
URL;VALUE=URI:https://hey-schweiz.com/events/371058
END:VEVENT
END:VCALENDAR
