BEGIN:VCALENDAR
PRODID:-//eluceo/ical//2.0/EN
VERSION:2.0
CALSCALE:GREGORIAN
BEGIN:VEVENT
UID:hey.bayern.383416.6554373
DTSTAMP:20260423T062032Z
SUMMARY:Gasner Kräuteradvent
DTSTART;TZID=Europe/Berlin:20261212T130000
DTEND;TZID=Europe/Berlin:20261212T235959
URL;VALUE=URI:https://hey-schweiz.com/events/383416
END:VEVENT
END:VCALENDAR
