BEGIN:VCALENDAR
PRODID:-//eluceo/ical//2.0/EN
VERSION:2.0
CALSCALE:GREGORIAN
BEGIN:VEVENT
UID:hey.bayern.392254.6553988
DTSTAMP:20260422T222435Z
SUMMARY:Abendwanderung in Dalaas mit regionalem Picknick
DTSTART;TZID=Europe/Berlin:20260515T190000
DTEND;TZID=Europe/Berlin:20260515T210000
LOCATION:Klostertalerstraße\, 6752 Dalaas\, Österreich
GEO:47.122687;10.001842
X-APPLE-STRUCTURED-LOCATION;VALUE=URI;X-ADDRESS=Klostertalerstraße\, 6752 
 Dalaas\, Österreich;X-APPLE-RADIUS=49;X-TITLE=:geo:47.122687,10.001842
URL;VALUE=URI:https://hey-schweiz.com/events/392254
END:VEVENT
END:VCALENDAR
