BEGIN:VCALENDAR
PRODID:-//eluceo/ical//2.0/EN
VERSION:2.0
CALSCALE:GREGORIAN
BEGIN:VEVENT
UID:hey.bayern.393136.6554403
DTSTAMP:20260422T234815Z
SUMMARY:Geführte E-Bike/MTB-Tour im Klostertal
DTSTART;TZID=Europe/Berlin:20260629T090000
DTEND;TZID=Europe/Berlin:20260629T120000
LOCATION:Bundesstraße 59\, 6754 Klösterle am Arlberg\, Österreich
GEO:47.131397;10.092773
X-APPLE-STRUCTURED-LOCATION;VALUE=URI;X-ADDRESS=Bundesstraße 59\, 6754 Kl
 österle am Arlberg\, Österreich;X-APPLE-RADIUS=49;X-TITLE=:geo:47.131397
 ,10.092773
URL;VALUE=URI:https://hey-schweiz.com/events/393136
END:VEVENT
END:VCALENDAR
