BEGIN:VCALENDAR
PRODID:-//eluceo/ical//2.0/EN
VERSION:2.0
CALSCALE:GREGORIAN
BEGIN:VEVENT
UID:hey.bayern.397632.6036260
DTSTAMP:20260423T075235Z
SUMMARY:Eltern-Kind-Treff mit Beratung
DTSTART;TZID=Europe/Berlin:20250918T093000
DTEND;TZID=Europe/Berlin:20250918T103000
LOCATION:Familientreff\, Timmersdorfergasse 14\, 8700 Leoben\, Österreich
URL;VALUE=URI:https://hey-schweiz.com/events/397632
END:VEVENT
END:VCALENDAR
