BEGIN:VCALENDAR
PRODID:-//eluceo/ical//2.0/EN
VERSION:2.0
CALSCALE:GREGORIAN
BEGIN:VEVENT
UID:hey.bayern.400088.6456181
DTSTAMP:20260423T122415Z
SUMMARY:Leoben Summer Nights
DTSTART;TZID=Europe/Berlin:20260903T180000
DTEND;TZID=Europe/Berlin:20260903T220000
LOCATION:Hauptplatz\, 8700 Leoben\, Österreich
GEO:47.380541;15.094513
X-APPLE-STRUCTURED-LOCATION;VALUE=URI;X-ADDRESS=Hauptplatz\, 8700 Leoben\, 
 Österreich;X-APPLE-RADIUS=49;X-TITLE=:geo:47.380541,15.094513
URL;VALUE=URI:https://hey-schweiz.com/events/400088
END:VEVENT
END:VCALENDAR
