BEGIN:VCALENDAR
PRODID:-//eluceo/ical//2.0/EN
VERSION:2.0
CALSCALE:GREGORIAN
BEGIN:VEVENT
UID:hey.bayern.401140.6556770
DTSTAMP:20260423T103458Z
SUMMARY:Minigolf
DTSTART;TZID=Europe/Berlin:20260714T000000
DTEND;TZID=Europe/Berlin:20260818T000000
LOCATION:Weberzeile 1\, 4910 Ried im Innkreis\, Österreich
GEO:48.206288;13.485891
X-APPLE-STRUCTURED-LOCATION;VALUE=URI;X-ADDRESS=Weberzeile 1\, 4910 Ried im
  Innkreis\, Österreich;X-APPLE-RADIUS=49;X-TITLE=:geo:48.206288,13.485891
URL;VALUE=URI:https://hey-schweiz.com/events/401140
END:VEVENT
END:VCALENDAR
