BEGIN:VCALENDAR
PRODID:-//eluceo/ical//2.0/EN
VERSION:2.0
CALSCALE:GREGORIAN
BEGIN:VEVENT
UID:hey.bayern.407451.6554208
DTSTAMP:20260422T222358Z
SUMMARY:Schauwerkstätte in Wald am Arlberg
DTSTART;TZID=Europe/Berlin:20261016T160000
DTEND;TZID=Europe/Berlin:20261016T170000
LOCATION:Arlbergstraße 44\, 6752 Wald am Arlberg / Vorarlberg\, Österreic
 h
GEO:47.128431;10.039831
X-APPLE-STRUCTURED-LOCATION;VALUE=URI;X-ADDRESS=Arlbergstraße 44\, 6752 Wa
 ld am Arlberg / Vorarlberg\, Österreich;X-APPLE-RADIUS=49;X-TITLE=:geo:47
 .128431,10.039831
URL;VALUE=URI:https://hey-schweiz.com/events/407451
END:VEVENT
END:VCALENDAR
