BEGIN:VCALENDAR
PRODID:-//eluceo/ical//2.0/EN
VERSION:2.0
CALSCALE:GREGORIAN
BEGIN:VEVENT
UID:hey.bayern.427139.6553748
DTSTAMP:20260421T014922Z
SUMMARY:Silvesterkonzert
DTSTART;TZID=Europe/Berlin:20261231T193000
DTEND;TZID=Europe/Berlin:20261231T220000
LOCATION:Wolfstraße 2\, 4663 Laakirchen\, Österreich
GEO:47.982801;13.822260
X-APPLE-STRUCTURED-LOCATION;VALUE=URI;X-ADDRESS=Wolfstraße 2\, 4663 Laakir
 chen\, Österreich;X-APPLE-RADIUS=49;X-TITLE=:geo:47.982801,13.822260
URL;VALUE=URI:https://hey-schweiz.com/events/427139
END:VEVENT
END:VCALENDAR
