BEGIN:VCALENDAR
PRODID:-//eluceo/ical//2.0/EN
VERSION:2.0
CALSCALE:GREGORIAN
BEGIN:VEVENT
UID:hey.bayern.437817.6556988
DTSTAMP:20260423T024032Z
SUMMARY:Fritz Ostermayer & Vienna Rest in Peace
DTSTART;TZID=Europe/Berlin:20260522T190000
DTEND;TZID=Europe/Berlin:20260522T233000
LOCATION:Herrenstraße 5\, 4020 Linz\, Österreich
GEO:48.303114;14.286087
X-APPLE-STRUCTURED-LOCATION;VALUE=URI;X-ADDRESS=Herrenstraße 5\, 4020 Linz
 \, Österreich;X-APPLE-RADIUS=49;X-TITLE=:geo:48.303114,14.286087
URL;VALUE=URI:https://hey-schweiz.com/events/437817
END:VEVENT
END:VCALENDAR
