BEGIN:VCALENDAR
PRODID:-//eluceo/ical//2.0/EN
VERSION:2.0
CALSCALE:GREGORIAN
BEGIN:VEVENT
UID:hey.bayern.438517.6556926
DTSTAMP:20260423T135721Z
SUMMARY:Silvester Galadinner
DTSTART;TZID=Europe/Berlin:20261231T190000
DTEND;TZID=Europe/Berlin:20270101T190000
LOCATION:Tangern 2\, 9871 Seeboden\, Österreich
GEO:46.824458;13.542946
X-APPLE-STRUCTURED-LOCATION;VALUE=URI;X-ADDRESS=Tangern 2\, 9871 Seeboden\,
  Österreich;X-APPLE-RADIUS=49;X-TITLE=:geo:46.824458,13.542946
URL;VALUE=URI:https://hey-schweiz.com/events/438517
END:VEVENT
END:VCALENDAR
