BEGIN:VCALENDAR
PRODID:-//eluceo/ical//2.0/EN
VERSION:2.0
CALSCALE:GREGORIAN
BEGIN:VEVENT
UID:hey.bayern.438521.6556927
DTSTAMP:20260423T105232Z
SUMMARY:Silvester im Moserhof - silvester.party.lifestyle
DTSTART;TZID=Europe/Berlin:20261231T220000
DTEND;TZID=Europe/Berlin:20270101T220000
LOCATION:Hauptstraße 48\, 9871 Seeboden\, Österreich
GEO:46.817168;13.513152
X-APPLE-STRUCTURED-LOCATION;VALUE=URI;X-ADDRESS=Hauptstraße 48\, 9871 Seeb
 oden\, Österreich;X-APPLE-RADIUS=49;X-TITLE=:geo:46.817168,13.513152
URL;VALUE=URI:https://hey-schweiz.com/events/438521
END:VEVENT
END:VCALENDAR
