BEGIN:VCALENDAR
PRODID:-//eluceo/ical//2.0/EN
VERSION:2.0
CALSCALE:GREGORIAN
BEGIN:VEVENT
UID:hey.bayern.444543.6553678
DTSTAMP:20260421T050201Z
SUMMARY:Festmesse zum Fest Maria Empfängnis
DTSTART;TZID=Europe/Berlin:20260426T093000
DTEND;TZID=Europe/Berlin:20260426T103000
LOCATION:Zentrum\, 5360 St. Wolfgang im Salzkammergut\, Österreich
GEO:47.737971;13.447582
X-APPLE-STRUCTURED-LOCATION;VALUE=URI;X-ADDRESS=Zentrum\, 5360 St. Wolfgang
  im Salzkammergut\, Österreich;X-APPLE-RADIUS=49;X-TITLE=:geo:47.737971,1
 3.447582
URL;VALUE=URI:https://hey-schweiz.com/events/444543
END:VEVENT
END:VCALENDAR
