BEGIN:VCALENDAR
PRODID:-//eluceo/ical//2.0/EN
VERSION:2.0
CALSCALE:GREGORIAN
BEGIN:VEVENT
UID:hey.bayern.447560.6554559
DTSTAMP:20260422T153324Z
SUMMARY:Graz ist Museumsreif!
DTSTART;TZID=Europe/Berlin:20260517T100000
DTEND;TZID=Europe/Berlin:20260517T235959
LOCATION:Sackstraße 18\, 8010 Graz\, Österreich
GEO:47.072703;15.436645
X-APPLE-STRUCTURED-LOCATION;VALUE=URI;X-ADDRESS=Sackstraße 18\, 8010 Graz\
 , Österreich;X-APPLE-RADIUS=49;X-TITLE=:geo:47.072703,15.436645
URL;VALUE=URI:https://hey-schweiz.com/events/447560
END:VEVENT
END:VCALENDAR
