BEGIN:VCALENDAR
PRODID:-//eluceo/ical//2.0/EN
VERSION:2.0
CALSCALE:GREGORIAN
BEGIN:VEVENT
UID:hey.bayern.460849.6556787
DTSTAMP:20260423T032312Z
SUMMARY:Nachtwächterführung Hartberg
DTSTART;TZID=Europe/Berlin:20260806T200000
DTEND;TZID=Europe/Berlin:20260806T235959
LOCATION:Herrengasse 6\, 8230 Hartberg\, Österreich
GEO:47.280466;15.967215
X-APPLE-STRUCTURED-LOCATION;VALUE=URI;X-ADDRESS=Herrengasse 6\, 8230 Hartbe
 rg\, Österreich;X-APPLE-RADIUS=49;X-TITLE=:geo:47.280466,15.967215
URL;VALUE=URI:https://hey-schweiz.com/events/460849
END:VEVENT
END:VCALENDAR
