BEGIN:VCALENDAR
PRODID:-//eluceo/ical//2.0/EN
VERSION:2.0
CALSCALE:GREGORIAN
BEGIN:VEVENT
UID:hey.bayern.462000.5827335
DTSTAMP:20260422T222300Z
SUMMARY:MITTAGSTISCH im Laurenzisaal - ..... auch zum Abholen
DTSTART;TZID=Europe/Berlin:20260422T120000
DTEND;TZID=Europe/Berlin:20260422T160000
LOCATION:Dorf 351\, 6934 Sulzberg\, Österreich
GEO:47.520298;9.911567
X-APPLE-STRUCTURED-LOCATION;VALUE=URI;X-ADDRESS=Dorf 351\, 6934 Sulzberg\, 
 Österreich;X-APPLE-RADIUS=49;X-TITLE=:geo:47.520298,9.911567
URL;VALUE=URI:https://hey-schweiz.com/events/462000
END:VEVENT
END:VCALENDAR
