BEGIN:VCALENDAR
PRODID:-//eluceo/ical//2.0/EN
VERSION:2.0
CALSCALE:GREGORIAN
BEGIN:VEVENT
UID:hey.bayern.471906.6548730
DTSTAMP:20260420T225938Z
SUMMARY:Heimatabend Hapimag Kaiserhof
DTSTART;TZID=Europe/Berlin:20260527T190000
DTEND;TZID=Europe/Berlin:20260527T210000
LOCATION:Kaiserhofstraße 6\, 5640 Bad Gastein\, Österreich
GEO:47.134324;13.143677
X-APPLE-STRUCTURED-LOCATION;VALUE=URI;X-ADDRESS=Kaiserhofstraße 6\, 5640 B
 ad Gastein\, Österreich;X-APPLE-RADIUS=49;X-TITLE=:geo:47.134324,13.14367
 7
URL;VALUE=URI:https://hey-schweiz.com/events/471906
END:VEVENT
END:VCALENDAR
