BEGIN:VCALENDAR
PRODID:-//eluceo/ical//2.0/EN
VERSION:2.0
CALSCALE:GREGORIAN
BEGIN:VEVENT
UID:hey.bayern.474090.6557015
DTSTAMP:20260423T105231Z
SUMMARY:Theaterwagen Ensemble Porcia - Auftakt Tramonto
DTSTART;TZID=Europe/Berlin:20260614T170000
DTEND;TZID=Europe/Berlin:20260614T210000
LOCATION:Fischerpark\, 9873 Döbriach\, Österreich
GEO:46.773520;13.643504
X-APPLE-STRUCTURED-LOCATION;VALUE=URI;X-ADDRESS=Fischerpark\, 9873 Döbriac
 h\, Österreich;X-APPLE-RADIUS=49;X-TITLE=:geo:46.773520,13.643504
URL;VALUE=URI:https://hey-schweiz.com/events/474090
END:VEVENT
END:VCALENDAR
