BEGIN:VCALENDAR
PRODID:-//eluceo/ical//2.0/EN
VERSION:2.0
CALSCALE:GREGORIAN
BEGIN:VEVENT
UID:hey.bayern.479491.6550688
DTSTAMP:20260423T044847Z
SUMMARY:Live in the City - Musikabende in Hartberg
DTSTART;TZID=Europe/Berlin:20260703T110000
DTEND;TZID=Europe/Berlin:20260703T235959
LOCATION:Hauptplatz\, 8230 Hartberg\, Österreich
GEO:47.281466;15.969397
X-APPLE-STRUCTURED-LOCATION;VALUE=URI;X-ADDRESS=Hauptplatz\, 8230 Hartberg\
 , Österreich;X-APPLE-RADIUS=49;X-TITLE=:geo:47.281466,15.969397
URL;VALUE=URI:https://hey-schweiz.com/events/479491
END:VEVENT
END:VCALENDAR
