BEGIN:VCALENDAR
PRODID:-//eluceo/ical//2.0/EN
VERSION:2.0
CALSCALE:GREGORIAN
BEGIN:VEVENT
UID:hey.bayern.481831.6549682
DTSTAMP:20260421T003202Z
SUMMARY:2. Filzmooser Gipfelroas
DTSTART;TZID=Europe/Berlin:20260620T063000
DTEND;TZID=Europe/Berlin:20260620T235959
LOCATION:Dorfstraße 12\, 5532 Filzmoos\, Österreich
GEO:47.434040;13.522130
X-APPLE-STRUCTURED-LOCATION;VALUE=URI;X-ADDRESS=Dorfstraße 12\, 5532 Filzm
 oos\, Österreich;X-APPLE-RADIUS=49;X-TITLE=:geo:47.434040,13.522130
URL;VALUE=URI:https://hey-schweiz.com/events/481831
END:VEVENT
END:VCALENDAR
