BEGIN:VCALENDAR
PRODID:-//eluceo/ical//2.0/EN
VERSION:2.0
CALSCALE:GREGORIAN
BEGIN:VEVENT
UID:hey.bayern.485608.6556725
DTSTAMP:20260423T075235Z
SUMMARY:Maibaumaufpassen
DTSTART;TZID=Europe/Berlin:20260501T180000
DTEND;TZID=Europe/Berlin:20260502T180000
LOCATION:Rennweg 9\, 9863 Rennweg\, Österreich
URL;VALUE=URI:https://hey-schweiz.com/events/485608
END:VEVENT
END:VCALENDAR
