BEGIN:VCALENDAR
PRODID:-//eluceo/ical//2.0/EN
VERSION:2.0
CALSCALE:GREGORIAN
BEGIN:VEVENT
UID:hey.bayern.487672.6556780
DTSTAMP:20260423T062038Z
SUMMARY:Musical "Das Gmündner Brezel Rätsel"
DTSTART;TZID=Europe/Berlin:20260528T190000
DTEND;TZID=Europe/Berlin:20260529T190000
LOCATION:Hauptplatz 1\, 9853 Gmünd in Kärnten\, Österreich
URL;VALUE=URI:https://hey-schweiz.com/events/487672
END:VEVENT
END:VCALENDAR
