BEGIN:VCALENDAR
PRODID:-//eluceo/ical//2.0/EN
VERSION:2.0
CALSCALE:GREGORIAN
BEGIN:VEVENT
UID:hey.bayern.487886.6556643
DTSTAMP:20260423T062038Z
SUMMARY:Klavier am Steg
DTSTART;TZID=Europe/Berlin:20260912T180000
DTEND;TZID=Europe/Berlin:20260913T180000
LOCATION:Metnitzstrand 2\, 9020 Klagenfurt am Wörthersee\, Österreich
URL;VALUE=URI:https://hey-schweiz.com/events/487886
END:VEVENT
END:VCALENDAR
