BEGIN:VCALENDAR
PRODID:-//eluceo/ical//2.0/EN
VERSION:2.0
CALSCALE:GREGORIAN
BEGIN:VEVENT
UID:hey.bayern.488995.6556910
DTSTAMP:20260423T041433Z
SUMMARY:Räucherworkshop
DTSTART;TZID=Europe/Berlin:20260503T000000
DTEND;TZID=Europe/Berlin:20260503T235959
LOCATION:Hauptplatz 9\, 8692 Neuberg an der Mürz\, Österreich
GEO:47.667101;15.574699
X-APPLE-STRUCTURED-LOCATION;VALUE=URI;X-ADDRESS=Hauptplatz 9\, 8692 Neuberg
  an der Mürz\, Österreich;X-APPLE-RADIUS=49;X-TITLE=:geo:47.667101,15.57
 4699
URL;VALUE=URI:https://hey-schweiz.com/events/488995
END:VEVENT
END:VCALENDAR
