BEGIN:VCALENDAR
PRODID:-//eluceo/ical//2.0/EN
VERSION:2.0
CALSCALE:GREGORIAN
BEGIN:VEVENT
UID:hey.bayern.489093.6553691
DTSTAMP:20260421T011158Z
SUMMARY:KINDEROPERNWERKSTATT 2024
DTSTART;TZID=Europe/Berlin:20260804T090000
DTEND;TZID=Europe/Berlin:20260804T133000
LOCATION:Dr. Greil Straße 43\, 4880 St. Georgen im Attergau\, Österreich
GEO:47.933087;13.489715
X-APPLE-STRUCTURED-LOCATION;VALUE=URI;X-ADDRESS=Dr. Greil Straße 43\, 4880
  St. Georgen im Attergau\, Österreich;X-APPLE-RADIUS=49;X-TITLE=:geo:47.9
 33087,13.489715
URL;VALUE=URI:https://hey-schweiz.com/events/489093
END:VEVENT
END:VCALENDAR
