BEGIN:VCALENDAR
PRODID:-//eluceo/ical//2.0/EN
VERSION:2.0
CALSCALE:GREGORIAN
BEGIN:VEVENT
UID:hey.bayern.489176.6555841
DTSTAMP:20260422T233443Z
SUMMARY:Vollmund - Das steirische Genusserlebnis am Thalersee
DTSTART;TZID=Europe/Berlin:20260828T183000
DTEND;TZID=Europe/Berlin:20260828T235959
LOCATION:Thalerseestraße 100\, 8051 Thal\, Österreich
GEO:47.071828;15.365525
X-APPLE-STRUCTURED-LOCATION;VALUE=URI;X-ADDRESS=Thalerseestraße 100\, 8051
  Thal\, Österreich;X-APPLE-RADIUS=49;X-TITLE=:geo:47.071828,15.365525
URL;VALUE=URI:https://hey-schweiz.com/events/489176
END:VEVENT
END:VCALENDAR
