BEGIN:VCALENDAR
PRODID:-//eluceo/ical//2.0/EN
VERSION:2.0
CALSCALE:GREGORIAN
BEGIN:VEVENT
UID:hey.bayern.490701.6556155
DTSTAMP:20260423T090454Z
SUMMARY:Bauernherbstfest Frühschoppen
DTSTART;TZID=Europe/Berlin:20270905T110000
DTEND;TZID=Europe/Berlin:20270905T235959
LOCATION:Am Dorfplatz 154\, 5505 Mühlbach am Hochkönig\, Österreich
URL;VALUE=URI:https://hey-schweiz.com/events/490701
END:VEVENT
END:VCALENDAR
