BEGIN:VCALENDAR
PRODID:-//eluceo/ical//2.0/EN
VERSION:2.0
CALSCALE:GREGORIAN
BEGIN:VEVENT
UID:hey.bayern.517215.6557026
DTSTAMP:20260423T032310Z
SUMMARY:Vollmondwanderung zur Ringwarte
DTSTART;TZID=Europe/Berlin:20260501T190000
DTEND;TZID=Europe/Berlin:20260501T235959
LOCATION:Rochusplatz\, 8230 Hartberg\, Österreich
GEO:47.281963;15.972793
X-APPLE-STRUCTURED-LOCATION;VALUE=URI;X-ADDRESS=Rochusplatz\, 8230 Hartberg
 \, Österreich;X-APPLE-RADIUS=49;X-TITLE=:geo:47.281963,15.972793
URL;VALUE=URI:https://hey-schweiz.com/events/517215
END:VEVENT
END:VCALENDAR
