BEGIN:VCALENDAR
PRODID:-//eluceo/ical//2.0/EN
VERSION:2.0
CALSCALE:GREGORIAN
BEGIN:VEVENT
UID:hey.bayern.522355.6184160
DTSTAMP:20260422T064124Z
SUMMARY:Willfit - Körperloting Ganzkörpertraining
DTSTART;TZID=Europe/Berlin:20261125T190000
DTEND;TZID=Europe/Berlin:20261125T200000
LOCATION:Mitte 73\, 9125 Kühnsdorf\, Österreich
GEO:46.619575;14.631583
X-APPLE-STRUCTURED-LOCATION;VALUE=URI;X-ADDRESS=Mitte 73\, 9125 Kühnsdorf\
 , Österreich;X-APPLE-RADIUS=49;X-TITLE=:geo:46.619575,14.631583
URL;VALUE=URI:https://hey-schweiz.com/events/522355
END:VEVENT
END:VCALENDAR
