BEGIN:VCALENDAR
PRODID:-//eluceo/ical//2.0/EN
VERSION:2.0
CALSCALE:GREGORIAN
BEGIN:VEVENT
UID:hey.bayern.534699.6550347
DTSTAMP:20260422T132410Z
SUMMARY:Drei Herzen Marathon
DTSTART;TZID=Europe/Berlin:20260516T080000
DTEND;TZID=Europe/Berlin:20260516T220000
LOCATION:Boračeva 37\, 9252 Radenci
GEO:46.687602;15.989395
X-APPLE-STRUCTURED-LOCATION;VALUE=URI;X-ADDRESS=Boračeva 37\, 9252 Radenci
 ;X-APPLE-RADIUS=49;X-TITLE=:geo:46.687602,15.989395
URL;VALUE=URI:https://hey-schweiz.com/events/534699
END:VEVENT
END:VCALENDAR
